BEGIN:VCALENDAR
VERSION:2.0
PRODID:-//Ola Design Group - ECPv6.15.20//NONSGML v1.0//EN
CALSCALE:GREGORIAN
METHOD:PUBLISH
X-ORIGINAL-URL:https://oladesigngroup.com
X-WR-CALDESC:Events for Ola Design Group
REFRESH-INTERVAL;VALUE=DURATION:PT1H
X-Robots-Tag:noindex
X-PUBLISHED-TTL:PT1H
BEGIN:VTIMEZONE
TZID:Pacific/Honolulu
BEGIN:STANDARD
TZOFFSETFROM:-1000
TZOFFSETTO:-1000
TZNAME:HST
DTSTART:20180101T000000
END:STANDARD
END:VTIMEZONE
BEGIN:VEVENT
DTSTART;TZID=Pacific/Honolulu:20190907T103000
DTEND;TZID=Pacific/Honolulu:20190907T110000
DTSTAMP:20260425T004617
CREATED:20190906T013406Z
LAST-MODIFIED:20190906T022411Z
UID:29450-1567852200-1567854000@oladesigngroup.com
SUMMARY:Mushroom Cultivation FUNdamentals!
DESCRIPTION:Learn the basics of mushroom cultivation in this hands-on 30-minute seminar! \n \n6+ \n 
URL:https://oladesigngroup.com/education/mushroom-fundamentals/
LOCATION:Minuke Ole Park\, 67-1185 Mamalahoa Hwy\, Kamuela\, HI
END:VEVENT
END:VCALENDAR